BEGIN:VCALENDAR
VERSION:2.0
PRODID:-//Talks.cam//talks.cam.ac.uk//
X-WR-CALNAME:Talks.cam
BEGIN:VEVENT
SUMMARY:You're the Hiring Committee! The Job Search As Seen From the Other
  Side of the Table - Prof John Robb (Department of Archaeology)
DTSTART:20181107T130000Z
DTEND:20181107T143000Z
UID:TALK111769@talks.cam.ac.uk
CONTACT:Michael Rivera
DESCRIPTION:Abstract not available
LOCATION:McDonald Institute Seminar Room\, Department of Archaeology\, Dow
 ning Site
END:VEVENT
END:VCALENDAR
