BEGIN:VCALENDAR
VERSION:2.0
PRODID:-//Talks.cam//talks.cam.ac.uk//
X-WR-CALNAME:Talks.cam
BEGIN:VEVENT
SUMMARY:Local estimates for reaction diffusion equations with applications
  to $\\Phi^4_3$ - Hendrik Weber (University of Bath)
DTSTART:20181005T100000Z
DTEND:20181005T113000Z
UID:TALK111841@talks.cam.ac.uk
CONTACT:INI IT
DESCRIPTION:
LOCATION:Seminar Room 1\, Newton Institute
END:VEVENT
END:VCALENDAR
