BEGIN:VCALENDAR
VERSION:2.0
PRODID:-//Talks.cam//talks.cam.ac.uk//
X-WR-CALNAME:Talks.cam
BEGIN:VEVENT
SUMMARY:Genetic Screens in Embryonic Stem Cells - Prof. Allan Bradley- Dir
 ector of Wellcome Trust Sanger institute
DTSTART:20090217T123000Z
DTEND:20090217T133000Z
UID:TALK11231@talks.cam.ac.uk
CONTACT:Dr. Walid Khaled
DESCRIPTION:Abstract not available
LOCATION:Lecture Theatre\, Department of Pathology
END:VEVENT
END:VCALENDAR
