BEGIN:VCALENDAR
VERSION:2.0
PRODID:-//Talks.cam//talks.cam.ac.uk//
X-WR-CALNAME:Talks.cam
BEGIN:VEVENT
SUMMARY:Title: Unexplained or Unexplainable?  - Presenter: Dr Golnessa Mas
 son
DTSTART:20181121T133000Z
DTEND:20181121T140000Z
UID:TALK112330@talks.cam.ac.uk
CONTACT:Vicky Clarke
DESCRIPTION:Specialist Lead: Professor Simon Griffin\n\nLead Consultant: D
 r Corinne Bakker GP\nBridge Street Medical Centre\, Cambridge\n\nPresenter
 : Dr Golnessa Masson Academic GP Registrar \nThe Primary Care Unit \nInsti
 tute of Public Health\n\nTitle: Unexplained or Unexplainable? \n \nSpecial
 ty: General Practice\n
LOCATION:William Harvey Lecture Theatre
END:VEVENT
END:VCALENDAR
