BEGIN:VCALENDAR
VERSION:2.0
PRODID:-//Talks.cam//talks.cam.ac.uk//
X-WR-CALNAME:Talks.cam
BEGIN:VEVENT
SUMMARY:On the dynamics of phytoplankton blooms in experiments and the rea
 l world - Aleksandra Lewandowska\, Tvärminne Zoological Station\, Univers
 ity of Helsinki
DTSTART:20181112T130000Z
DTEND:20181112T140000Z
UID:TALK112504@talks.cam.ac.uk
CONTACT:Prof. Jerome Neufeld
DESCRIPTION:Abstract not available
LOCATION:MR5\, Centre for Mathematical Sciences
END:VEVENT
END:VCALENDAR
