BEGIN:VCALENDAR
VERSION:2.0
PRODID:-//Talks.cam//talks.cam.ac.uk//
X-WR-CALNAME:Talks.cam
BEGIN:VEVENT
SUMMARY:Observing ongoing planet formation   - Sebastian Perez (Universida
 d de Chile)
DTSTART:20181002T150000Z
DTEND:20181002T160000Z
UID:TALK112639@talks.cam.ac.uk
CONTACT:Richard Booth
DESCRIPTION:\nIn this talk\, I will briefly review the quest for observing
  planets in their formation stages\, and present a method that can provide
  protoplanet detections and measurement of their mass. I will show prelimi
 nary results from our recent ALMA long baseline observations of the gas ki
 nematics around candidate circumplanetary discs (CPDs)\, and continuum obs
 ervations of a particular ringed system.  We could finish the talk by disc
 ussing how we can constrain physical parameters in planet formation theori
 es using long baseline observations.
LOCATION:Martin Ryle Seminar Room\, Kavli Institute
END:VEVENT
END:VCALENDAR
