BEGIN:VCALENDAR
VERSION:2.0
PRODID:-//Talks.cam//talks.cam.ac.uk//
X-WR-CALNAME:Talks.cam
BEGIN:VEVENT
SUMMARY:Real homotopy theory - Lennart Meier (Universiteit Utrecht)
DTSTART:20181016T124500Z
DTEND:20181016T134500Z
UID:TALK112687@talks.cam.ac.uk
CONTACT:INI IT
DESCRIPTION:Real homotopy theory has its origin in Atiyah capitalizing on 
 the complex conjugation action on complex K-theory to obtain the $C_2$-spe
 ctrum of Real K-theory. More generally it concerns $C_2$-spectra with a Re
 al orientation. We will discuss several examples and several results\, inc
 luding some joint work with Hill and Greenlees.
LOCATION:Seminar Room 2\, Newton Institute
END:VEVENT
END:VCALENDAR
