BEGIN:VCALENDAR
VERSION:2.0
PRODID:-//Talks.cam//talks.cam.ac.uk//
X-WR-CALNAME:Talks.cam
BEGIN:VEVENT
SUMMARY:Statistics Clinic Michaelmas 2018 - IV - Speaker to be confirmed
DTSTART:20181128T163000Z
DTEND:20181128T180000Z
UID:TALK112894@talks.cam.ac.uk
CONTACT:Oliver Feng
DESCRIPTION:Abstract not available
LOCATION:Centre for Mathematical Sciences\, Meeting Room 4 (centre buildin
 g\, basement)
END:VEVENT
END:VCALENDAR
