BEGIN:VCALENDAR
VERSION:2.0
PRODID:-//Talks.cam//talks.cam.ac.uk//
X-WR-CALNAME:Talks.cam
BEGIN:VEVENT
SUMMARY:Homi Bhabha in Conversation - Homi Bhabha (Harvard)\, Phiroze Vasu
 nia (UCL)
DTSTART:20181102T173000Z
DTEND:20181102T184500Z
UID:TALK113056@talks.cam.ac.uk
CONTACT:CRASSH Enquiries
DESCRIPTION:Professor Homi Bhabha from Harvard\, one of the foundational f
 igures in postcolonial studies\, will be in conversation with Professor Ph
 iroze Vasunia (UCL).\n\nPlaces are limited so please register via Eventbri
 te: https://www.eventbrite.co.uk/e/homi-bhabha-in-conversation-tickets-512
 86093085
LOCATION:SG1 & SG2\, Alison Richard Building\, 7 West Rd\, Cambridge CB3 9
 DT 
END:VEVENT
END:VCALENDAR
