BEGIN:VCALENDAR
VERSION:2.0
PRODID:-//Talks.cam//talks.cam.ac.uk//
X-WR-CALNAME:Talks.cam
BEGIN:VEVENT
SUMMARY:Will Tanner: Former Adviser to Theresa May - Will Tanner\, former 
 adviser to Theresa May
DTSTART:20181024T170000Z
DTEND:20181024T183000Z
UID:TALK113830@talks.cam.ac.uk
CONTACT:Ms Clare Francis
DESCRIPTION:Between 2013 and 2017\, Will Tanner was an adviser to Theresa 
 May in the Home Office\, as well as being Deputy Head of Policy in 10 Down
 ing Street. He now directs the centrist Conservative think-tank 'Onward'. 
 Come along for a talk\, followed by audience questions\, in what promises 
 to be a fascinating insight into the career of our Prime Minister and the 
 future of conservatism in this country. \n\nAs always\, wine and cheese wi
 ll be available. \n\nThe event will be held in the Junior Parlour at Trini
 ty College. To access the venue\, enter the gate on the opposite side of t
 he road from Great Gate\, turn right\, and head upstairs. There will be si
 gns directing you to the Junior Parlour. Doors will open at 5:45pm with re
 freshments provided\, and the talk will begin at approximately 6:10pm.
LOCATION:Junior Parlour\, Trinity College 
END:VEVENT
END:VCALENDAR
