BEGIN:VCALENDAR
VERSION:2.0
PRODID:-//Talks.cam//talks.cam.ac.uk//
X-WR-CALNAME:Talks.cam
BEGIN:VEVENT
SUMMARY:Biochemistry Friday Seminars - Matthew Ratcliff - "Prodomain Relev
 ance in GDNF Family Signalling"  Teodors Panteļejevs - "Structural and Ch
 emical Biology of Rad51-BRC repeat interaction"  - Matthew Ratcliff and Th
 eo Pantelejevs\, Department of Biochemistry\, University of Cambrige
DTSTART:20191108T150000Z
DTEND:20191108T160000Z
UID:TALK113881@talks.cam.ac.uk
DESCRIPTION:Abstract not available
LOCATION:Department of Biochemistry\, Sanger Building Jean Thomas Lecture 
 Theatre
END:VEVENT
END:VCALENDAR
