BEGIN:VCALENDAR
VERSION:2.0
PRODID:-//Talks.cam//talks.cam.ac.uk//
X-WR-CALNAME:Talks.cam
BEGIN:VEVENT
SUMMARY:Multi-tasking for MR Image Enhancement:From Acceleration to Motion
  Correction - Angelica Aviles-Rivero\, Cambridge
DTSTART:20190404T120000Z
DTEND:20190404T130000Z
UID:TALK114268@talks.cam.ac.uk
CONTACT:47770
DESCRIPTION:Abstract not available
LOCATION:School of Clinical Medicine\, Lecture Theatre Two
END:VEVENT
END:VCALENDAR
