BEGIN:VCALENDAR
VERSION:2.0
PRODID:-//Talks.cam//talks.cam.ac.uk//
X-WR-CALNAME:Talks.cam
BEGIN:VEVENT
SUMMARY:Macrophages\, type 2 immunity and tissue repair: Learning from hel
 minths - Judith Allen\, University of Manchester
DTSTART:20181123T130000Z
DTEND:20181123T140000Z
UID:TALK114460@talks.cam.ac.uk
CONTACT:Tammy Dougan
DESCRIPTION:Abstract not available
LOCATION:Patrick Sissons seminar room (Purple seminar room)\, Dept Medicin
 e\, Level 5\, Addenbrookes hospital
END:VEVENT
END:VCALENDAR
