BEGIN:VCALENDAR
VERSION:2.0
PRODID:-//Talks.cam//talks.cam.ac.uk//
X-WR-CALNAME:Talks.cam
BEGIN:VEVENT
SUMMARY:Mitochondrial FAS - from respiratory deficient yeast to cardiomyop
 athic mice - Kalervo Hiltunen\, university of Oulu\, Finland
DTSTART:20080414T140000Z
DTEND:20080414T150000Z
UID:TALK11461@talks.cam.ac.uk
CONTACT:Duncan Simpson
DESCRIPTION:Wed 14 April\n\nMitochondrial FAS - from respiratory deficient
  yeast to cardiomyopathic mice\nKalervo Hiltunen\, university of Oulu\, Fi
 nland\nMRC Sackler Lecture Theatre (Hills Rd)\, 3pm\n\n
LOCATION:Sackler Lecture Theatre (Level 7)\, Cambridge Institute for Medic
 al Research
END:VEVENT
END:VCALENDAR
