BEGIN:VCALENDAR
VERSION:2.0
PRODID:-//Talks.cam//talks.cam.ac.uk//
X-WR-CALNAME:Talks.cam
BEGIN:VEVENT
SUMMARY:A crystal structure based study of NhaA\, a Na+/H+ antiporter with
  orthologues from bacteria to human - Etana Padan\, Hebrew university of J
 erusalem\, Israel
DTSTART:20080428T150000Z
DTEND:20080428T160000Z
UID:TALK11462@talks.cam.ac.uk
CONTACT:Duncan Simpson
DESCRIPTION:Wed 28 April\n\nA crystal structure based study of NhaA\, a Na
 +/H+ antiporter with orthologues from bacteria to human\nEtana Padan\, Heb
 rew university of Jerusalem\, Israel\nMRC Sackler Lecture Theatre (Hills R
 d)\, 4pm\n\n
LOCATION:Sackler Lecture Theatre (Level 7)\, Cambridge Institute for Medic
 al Research
END:VEVENT
END:VCALENDAR
