BEGIN:VCALENDAR
VERSION:2.0
PRODID:-//Talks.cam//talks.cam.ac.uk//
X-WR-CALNAME:Talks.cam
BEGIN:VEVENT
SUMMARY:Title to be confirmed - John P. Dalton\, University of Technology\
 , Sydney\,
DTSTART:20080409T103000Z
DTEND:20080409T113000Z
UID:TALK11474@talks.cam.ac.uk
CONTACT:Duncan Simpson
DESCRIPTION:April 9 Wed TBA John P. Dalton\nUniversity of Technology\, Syd
 ney\, Au Seminar Room  \n\n\nhttp://www.path.cam.ac.uk/mpd/seminars.html\n
LOCATION:Seminar Room\, Tennis Court Road\, Dept of Pathology.
END:VEVENT
END:VCALENDAR
