BEGIN:VCALENDAR
VERSION:2.0
PRODID:-//Talks.cam//talks.cam.ac.uk//
X-WR-CALNAME:Talks.cam
BEGIN:VEVENT
SUMMARY:Bribery\, cryptocurrencies and smart contracts - Joseph Bonneau\, 
 New York University
DTSTART:20181109T160000Z
DTEND:20181109T163000Z
UID:TALK114826@talks.cam.ac.uk
CONTACT:Markus Kuhn
DESCRIPTION:Abstract not available
LOCATION:Computer Laboratory\, William Gates Building\, Room FW11
END:VEVENT
END:VCALENDAR
