BEGIN:VCALENDAR
VERSION:2.0
PRODID:-//Talks.cam//talks.cam.ac.uk//
X-WR-CALNAME:Talks.cam
BEGIN:VEVENT
SUMMARY:Protein structure bioinformatics as one tool to improve human heal
 th - Prof. Gert Vriend\, Nijmegen Centre for Molecular Life Sciences
DTSTART:20080603T131500Z
DTEND:20080603T141500Z
UID:TALK11489@talks.cam.ac.uk
CONTACT:8035
DESCRIPTION:Abstract not available
LOCATION:Unilever Lecture Theatre\, Unilever Centre for Molecular Informat
 ics\, Department of Chemist
END:VEVENT
END:VCALENDAR
