BEGIN:VCALENDAR
VERSION:2.0
PRODID:-//Talks.cam//talks.cam.ac.uk//
X-WR-CALNAME:Talks.cam
BEGIN:VEVENT
SUMMARY:Orthogonal G-Spectra II - Doug Ravenel (University of Rochester)
DTSTART:20181017T130000Z
DTEND:20181017T140000Z
UID:TALK114916@talks.cam.ac.uk
CONTACT:INI IT
DESCRIPTION:
LOCATION:Seminar Room 2\, Newton Institute
END:VEVENT
END:VCALENDAR
