BEGIN:VCALENDAR
VERSION:2.0
PRODID:-//Talks.cam//talks.cam.ac.uk//
X-WR-CALNAME:Talks.cam
BEGIN:VEVENT
SUMMARY:"Ultrafast Machining of High Temperature Superconductor Nanostruct
 ures for Novel Mesoscale Physics" - Lily Delimata
DTSTART:20181207T113000Z
DTEND:20181207T123000Z
UID:TALK115030@talks.cam.ac.uk
CONTACT:alison martin
DESCRIPTION:Abstract not available
LOCATION:Seminar Room 3 at the Institute for Manufacturing\, 17 Charles Ba
 bbage Road
END:VEVENT
END:VCALENDAR
