BEGIN:VCALENDAR
VERSION:2.0
PRODID:-//Talks.cam//talks.cam.ac.uk//
X-WR-CALNAME:Talks.cam
BEGIN:VEVENT
SUMMARY:“Love at First Light” - Gero Miesenboeck – Department of Phy
 siology\, Anatomy & Genetics
DTSTART:20080424T133000Z
DTEND:20080424T150000Z
UID:TALK11591@talks.cam.ac.uk
CONTACT:Cath Tinley
DESCRIPTION:Abstract not available
LOCATION:Part II room\,  Department of Genetics
END:VEVENT
END:VCALENDAR
