BEGIN:VCALENDAR
VERSION:2.0
PRODID:-//Talks.cam//talks.cam.ac.uk//
X-WR-CALNAME:Talks.cam
BEGIN:VEVENT
SUMMARY:Annual WiSETI Lecture: The Adolescent Brain  - Professor Sarah-Jay
 ne Blakemore 
DTSTART:20190312T173000Z
DTEND:20190312T183000Z
UID:TALK116680@talks.cam.ac.uk
CONTACT:Equality & Diversity
DESCRIPTION:Remember being a teenager? So does *Sarah-Jayne Blakemore*\, P
 rofessor of Cognitive Neuroscience at UCL and winner of the Royal Society 
 Science Book Prize 2018. \n\nHer research concentrates on the development 
 of social cognition and decision making in the adolescent brain\, and will
  be the focus of this year’s WiSETi Lecture.\n\n*To book your place\, pl
 ease visit: https://2019wiseti.eventbrite.co.uk*\n\n\n\n\n\n
LOCATION:Wolfson Hall\, Churchill College
END:VEVENT
END:VCALENDAR
