BEGIN:VCALENDAR
VERSION:2.0
PRODID:-//Talks.cam//talks.cam.ac.uk//
X-WR-CALNAME:Talks.cam
BEGIN:VEVENT
SUMMARY:The energetics of the tropical Pacific Ocean and ENSO dynamics - A
 lexey Fedorov (Yale)
DTSTART:20080609T120500Z
DTEND:20080609T130500Z
UID:TALK11669@talks.cam.ac.uk
CONTACT:cjh43
DESCRIPTION:Note the room change: this talk is in *MR14*
LOCATION:MR14\, DAMTP
END:VEVENT
END:VCALENDAR
