BEGIN:VCALENDAR
VERSION:2.0
PRODID:-//Talks.cam//talks.cam.ac.uk//
X-WR-CALNAME:Talks.cam
BEGIN:VEVENT
SUMMARY:Infrared-Faint Radio Sources: A new high-redshift population? - Ti
 m Garn\, Cavendish Astrophysics
DTSTART:20080430T101500Z
DTEND:20080430T103000Z
UID:TALK11685@talks.cam.ac.uk
CONTACT:John Young
DESCRIPTION:Abstract not available
LOCATION:Ryle Seminar Room\, Rutherford Building\, Cavendish Laboratory
END:VEVENT
END:VCALENDAR
