BEGIN:VCALENDAR
VERSION:2.0
PRODID:-//Talks.cam//talks.cam.ac.uk//
X-WR-CALNAME:Talks.cam
BEGIN:VEVENT
SUMMARY:The effect of out-wintering pad design on dairy cow health and wel
 fare - Keelin O'Driscoll:  University of Cambridge
DTSTART:20080428T153000Z
DTEND:20080428T163000Z
UID:TALK11782@talks.cam.ac.uk
CONTACT:Anthony Podberscek
DESCRIPTION:Abstract not available
LOCATION:Seminar Room\, Centre for Animal Welfare & Anthrozoology\, Depart
 ment of Veterinary Medicine\, Madingley Road\, Cambridge
END:VEVENT
END:VCALENDAR
