BEGIN:VCALENDAR
VERSION:2.0
PRODID:-//Talks.cam//talks.cam.ac.uk//
X-WR-CALNAME:Talks.cam
BEGIN:VEVENT
SUMMARY:Is Peer Review a Process in Ruins?: The Politics Behind Getting Yo
 ur Paper Published - Dr. Stephen Simpson\, Dr. Robert Shields\, Prof. Mich
 ael Wakelam\, Dr. Peter Lawrence
DTSTART:20080428T183000Z
DTEND:20080428T203000Z
UID:TALK11871@talks.cam.ac.uk
CONTACT:7038
DESCRIPTION:The Triple Helix Cambridge (www.camtriplehelix.com) presents:\
 n\n\n*Is Peer Review a Process in Ruins?: The Politics Behind Getting Your
  Paper Published*\n\n\nIn an era when science is under increasing scrutiny
 \, it is vitally important that scientists maintain the highest levels of 
 moral standards and ethical behavior.  But just how fair is the publishing
  process which disseminates scientific discoveries? And who should be able
  to access this information?\n\nJoin us for our final interactive panel ev
 ent this year to debate the ethics of peer review and open versus closed a
 ccess publishing. We have an excellent line-up of speakers including:\n\n*
  Dr. Stephen Simpson (Senior Editor at Science)\n* Dr. Robert Shields (Sen
 ior Editor at PLoS)\n* Prof. Michael Wakelam (Director of the Babraham Ins
 titute\, Cambridge)\n* Dr. Peter Lawrence (Principle Investigator at the L
 aboratory of Molecular Biology\, Cambridge)\n\nChaired by Dr Summers (Depa
 rtment of Genetics)\n\nRefreshments will be served at the end. We look for
 ward to welcoming you! 
LOCATION:McCrum Lecture Theatre\, next to Eagle pub
END:VEVENT
END:VCALENDAR
