BEGIN:VCALENDAR
VERSION:2.0
PRODID:-//Talks.cam//talks.cam.ac.uk//
X-WR-CALNAME:Talks.cam
BEGIN:VEVENT
SUMMARY:"Vocal communication in chimpanzees: links to human language?" - K
 atie Slocombe: University of York
DTSTART:20080430T113000Z
DTEND:20080430T123000Z
UID:TALK11893@talks.cam.ac.uk
CONTACT:9276
DESCRIPTION:Abstract not available
LOCATION:Library\, Sub-Department of Animal Behaviour\, Madingley
END:VEVENT
END:VCALENDAR
