BEGIN:VCALENDAR
VERSION:2.0
PRODID:-//Talks.cam//talks.cam.ac.uk//
X-WR-CALNAME:Talks.cam
BEGIN:VEVENT
SUMMARY:Bullying & Cyberbullying: protective factors and effective interve
 ntions - Izabela Zych\, Associate Professor\, Department of Psychology\, U
 niversity of Cordoba (Spain)
DTSTART:20190123T130000Z
DTEND:20190123T140000Z
UID:TALK119110@talks.cam.ac.uk
CONTACT:Graham Allen
DESCRIPTION:This lunchtime lecture will focus on the nature and dynamics o
 f bullying and cyberbullying\, together with factors that protect children
  from bullying and cyberbullying\, and effective interventions.\n\nThe new
 est research on the topic will be synthesised\, reviewing recent meta-anal
 yses and research syntheses\, together with empirical findings\, to provid
 e a global vision on what is being done and what can be done to protect ch
 ildren from bullying and cyberbullying. Thus\, this lecture aims to presen
 t a comprehensive overview on protecting children and adolescents from bul
 lying and cyberbullying.
LOCATION:Combination Room\, Wolfson College
END:VEVENT
END:VCALENDAR
