BEGIN:VCALENDAR
VERSION:2.0
PRODID:-//Talks.cam//talks.cam.ac.uk//
X-WR-CALNAME:Talks.cam
BEGIN:VEVENT
SUMMARY:Rapid loss of immunity in necessary to explain historical cholera 
 epidemics - Ed Ionides:  University of Michigan
DTSTART:20080508T152000Z
DTEND:20080508T163000Z
UID:TALK11936@talks.cam.ac.uk
DESCRIPTION:Abstract not available
LOCATION:Meeting room 15\, Maths Department
END:VEVENT
END:VCALENDAR
