BEGIN:VCALENDAR
VERSION:2.0
PRODID:-//Talks.cam//talks.cam.ac.uk//
X-WR-CALNAME:Talks.cam
BEGIN:VEVENT
SUMMARY:Hillary Clinton\, Siamese cats and HIV: defects in transport of pr
 oteins within a cell - Patrycja Kozik\, Clinical Biochemistry/CIMR
DTSTART:20080508T121000Z
DTEND:20080508T124500Z
UID:TALK11991@talks.cam.ac.uk
CONTACT:Emanuel Busch
DESCRIPTION:Abstract not available
LOCATION:Entertaining Room\, Darwin College
END:VEVENT
END:VCALENDAR
