BEGIN:VCALENDAR
VERSION:2.0
PRODID:-//Talks.cam//talks.cam.ac.uk//
X-WR-CALNAME:Talks.cam
BEGIN:VEVENT
SUMMARY:On some lower bounds for Kolmogorov widths - Yuri Malykhin  (Stekl
 ov Mathematical Institute\, Russian Academy of Sciences \; Moscow State Un
 iversity)
DTSTART:20190218T114000Z
DTEND:20190218T121500Z
UID:TALK119947@talks.cam.ac.uk
CONTACT:INI IT
DESCRIPTION:
LOCATION:Seminar Room 1\, Newton Institute
END:VEVENT
END:VCALENDAR
