BEGIN:VCALENDAR
VERSION:2.0
PRODID:-//Talks.cam//talks.cam.ac.uk//
X-WR-CALNAME:Talks.cam
BEGIN:VEVENT
SUMMARY:Title: “When Wheeze is not Wheeze” - Presenter: Dr Iheoma Okpa
 la\, Dr Harriet Robinson & Dr Amie Varney
DTSTART:20190327T133000Z
DTEND:20190327T140000Z
UID:TALK119980@talks.cam.ac.uk
CONTACT:Vicky Clarke
DESCRIPTION:Specialist Lead: Dr Fraz Mir\n\nLead Consultant: Dr Pasupathy 
 Sivasothy\n\nPresenter: Dr Iheoma Okpala\, Dr Harriet Robinson & Dr Amie V
 arney\n\nTitle: “When Wheeze is not Wheeze”\n\nSpecialty: Respiratory 
 Medicine / Acute Medicine\n\n\n\n\n
LOCATION:William Harvey Lecture Theatre
END:VEVENT
END:VCALENDAR
