BEGIN:VCALENDAR
VERSION:2.0
PRODID:-//Talks.cam//talks.cam.ac.uk//
X-WR-CALNAME:Talks.cam
BEGIN:VEVENT
SUMMARY:CMP Seminar on 11th February 2019 - Ophelia Crawford\, Riverlane\;
  Lee Momtahan and James Pollock\, Centrica\; Olivier Restif\, Veterinary M
 edicine\; Andrew Thompson\, NPL
DTSTART:20190211T130000Z
DTEND:20190211T141500Z
UID:TALK120055@talks.cam.ac.uk
CONTACT:Arti Sheth Thorne
DESCRIPTION:The Cambridge Mathematics Placements (CMP) lunchtime seminar s
 eries provides information on research projects available for summer 2019 
 outside the CMS\n\nThe following projects will be presented on 11th Februa
 ry 2019:\n\nQuantum computing for molecular simulation\, Ophelia Crawford\
 , Riverlane\n\nMathematical Finance in the Energy Sector\, Lee Momtahan an
 d James Pollock\, Centrica Energy Marketing and Trading\n\nMoment-based in
 ference for stochastic models\, Olivier Restif\, Department of Veterinary 
 Medicine\n\nCompressed sensing at massive scale\, Andrew Thompson\, Nation
 al Physical Laboratory\n\nFor more information please see: http://www.math
 s.cam.ac.uk/summer-research-mathematics
LOCATION:CMS MR3
END:VEVENT
END:VCALENDAR
