BEGIN:VCALENDAR
VERSION:2.0
PRODID:-//Talks.cam//talks.cam.ac.uk//
X-WR-CALNAME:Talks.cam
BEGIN:VEVENT
SUMMARY:Exotic Stein manifolds - Mark McLean (Cambridge)
DTSTART:20080305T170000Z
DTEND:20080305T180000Z
UID:TALK12015@talks.cam.ac.uk
CONTACT:Andrew Aitchison
DESCRIPTION:Abstract not available
LOCATION:MR13\, CMS
END:VEVENT
END:VCALENDAR
