BEGIN:VCALENDAR
VERSION:2.0
PRODID:-//Talks.cam//talks.cam.ac.uk//
X-WR-CALNAME:Talks.cam
BEGIN:VEVENT
SUMMARY:Debris : Dealing with the physical aftermath of the post-crisis si
 tuation - Gilly Carr and Benjamin Morris (University of Cambridge)
DTSTART:20080513T123000Z
DTEND:20080513T143000Z
UID:TALK12050@talks.cam.ac.uk
CONTACT:Dacia Viejo Rose
DESCRIPTION:Debris : Dealing with the physical aftermath of the post-crisi
 s situation \nTuesday\, 13 May \n13:30 - 15:30 \nLocation: CRASSH\, 17 Mil
 l Lane \nSpeakers: Gilly Carr and Benjamin Morris (University of Cambridge
 ) \n
LOCATION:CRASSH Seminar Room\, 17 Mill Lane
END:VEVENT
END:VCALENDAR
