BEGIN:VCALENDAR
VERSION:2.0
PRODID:-//Talks.cam//talks.cam.ac.uk//
X-WR-CALNAME:Talks.cam
BEGIN:VEVENT
SUMMARY:Intellectual Geography: Territorial Fragmentation and Intellectual
  Activity in the Holy Roman Empire - Dr Howard Hotson\, Fellow and Tutor i
 n Modern History\, St Anne’s College\, Oxford
DTSTART:20080507T160000Z
DTEND:20080507T180000Z
UID:TALK12060@talks.cam.ac.uk
CONTACT:Jennifer Rampling
DESCRIPTION:M&EM is a twice-termly\, interdisciplinary forum\, offering ta
 lks\, discussion\, and practical research advice on key areas of medieval 
 and early modern scholarship. Supported by the Society for Renaissance Stu
 dies and coordinated by Jennifer Rampling (jmr82@cam.ac.uk) and Felicity G
 reen (fmg26@cam.ac.uk).
LOCATION:Department of History and Philosophy of Science
END:VEVENT
END:VCALENDAR
