BEGIN:VCALENDAR
VERSION:2.0
PRODID:-//Talks.cam//talks.cam.ac.uk//
X-WR-CALNAME:Talks.cam
BEGIN:VEVENT
SUMMARY:Fixing the Standard Model: from the chemistry lab to the chocolate
  shop - Claire Malone (University of Cambridge)
DTSTART:20190222T120000Z
DTEND:20190222T130000Z
UID:TALK120601@talks.cam.ac.uk
CONTACT:Cavendish Inspiring Women
DESCRIPTION:Abstract not available
LOCATION: Small Lecture Theatre\, Cavendish Laboratory\, J.J. Thomson Aven
 ue
END:VEVENT
END:VCALENDAR
