BEGIN:VCALENDAR
VERSION:2.0
PRODID:-//Talks.cam//talks.cam.ac.uk//
X-WR-CALNAME:Talks.cam
BEGIN:VEVENT
SUMMARY:Title to be confirmed - Crispin Barnes\, Thin-Film Magnetism Group
 \, Cavendish Laboratory
DTSTART:20190606T150000Z
DTEND:20190606T160000Z
UID:TALK121126@talks.cam.ac.uk
CONTACT:Stephen Walley
DESCRIPTION:Abstract not available
LOCATION:Mott Seminar Room\, Cavendish Laboratory
END:VEVENT
END:VCALENDAR
