BEGIN:VCALENDAR
VERSION:2.0
PRODID:-//Talks.cam//talks.cam.ac.uk//
X-WR-CALNAME:Talks.cam
BEGIN:VEVENT
SUMMARY: Title: "Keep Calm and Carry On" - Presenter: Frances Early & Jona
 than Fuld
DTSTART:20190403T120000Z
DTEND:20190403T123000Z
UID:TALK121510@talks.cam.ac.uk
CONTACT:Vicky Clarke
DESCRIPTION:Specialist Lead: Dr Frank McCaughan\n\nLead Consultant: Dr Fra
 nk McCaughan\n\nPresenter: Frances Early & Jonathan Fuld\n\nTitle: "Keep C
 alm and Carry On"\n\nSpecialty: Respiratory\n
LOCATION:William Harvey Lecture Theatre
END:VEVENT
END:VCALENDAR
