BEGIN:VCALENDAR
VERSION:2.0
PRODID:-//Talks.cam//talks.cam.ac.uk//
X-WR-CALNAME:Talks.cam
BEGIN:VEVENT
SUMMARY:Design of Liquid Crystals for Microscale Dynamics - 3 - Oleg Lavre
 ntovich (Kent State University\; Kent State University)
DTSTART:20190327T101500Z
DTEND:20190327T111500Z
UID:TALK121696@talks.cam.ac.uk
CONTACT:INI IT
DESCRIPTION:
LOCATION:Seminar Room 1\, Newton Institute
END:VEVENT
END:VCALENDAR
