BEGIN:VCALENDAR
VERSION:2.0
PRODID:-//Talks.cam//talks.cam.ac.uk//
X-WR-CALNAME:Talks.cam
BEGIN:VEVENT
SUMMARY:The Cambridge Autism Genetics Symposium - Daniel Geschwind - UCLA 
 (Keynote)
DTSTART:20190322T100000Z
DTEND:20190322T160000Z
UID:TALK121732@talks.cam.ac.uk
CONTACT:Varun Warrier
DESCRIPTION:Talks include:\n\nKaitlin Samocha: Lessons from the Decipherin
 g Developmental Disorders project\n\nLucy Raymond: Insights from the IMAGI
 NE ID cohort\n\nKate Baker: Pathways to autism in intellectual disability\
 n\nDaniel Geschwind: Integrative Genomics in Neurodevelopmental Disorders\
 n\nJames Cusack: The priorities of autistic people and their families – 
 what is the role of genetics research?\n\nRic Anney: Insights from common 
 genetic variation associated with autism spectrum disorders: evidence from
  the psychiatric genomics consortium and beyond\n\nVarun Warrier: The gene
 tics of social and non-social autism and autistic trait domains\n\nMichell
 e Krishnan: Clinical development of an oligonucleotide therapy for Angelma
 n Syndrome\n\nArnold Kriegstein: What human cortical development can teach
  us about the origins of autism\n\n\n\n
LOCATION:Venue to be confirmed
END:VEVENT
END:VCALENDAR
