BEGIN:VCALENDAR
VERSION:2.0
PRODID:-//Talks.cam//talks.cam.ac.uk//
X-WR-CALNAME:Talks.cam
BEGIN:VEVENT
SUMMARY:Title: ‘Breathing\, thinking\, functioning’ -  Presenter: Dr A
 rjun Kingdon
DTSTART:20190508T120000Z
DTEND:20190508T123000Z
UID:TALK122296@talks.cam.ac.uk
CONTACT:Vicky Clarke
DESCRIPTION:Specialist Lead: Dr Rosemary Wade\n\nLead Consultant: Dr Anna 
 Spathis\n\nPresenter: Dr Arjun Kingdon\n\nTitle: ‘Breathing\, thinking\,
  functioning’\n\nSpecialty: Palliative Care
LOCATION:William Harvey Lecture Theatre
END:VEVENT
END:VCALENDAR
