BEGIN:VCALENDAR
VERSION:2.0
PRODID:-//Talks.cam//talks.cam.ac.uk//
X-WR-CALNAME:Talks.cam
BEGIN:VEVENT
SUMMARY:Title: “One disease\, two diseases\, three diseases or more…
 ” - Presenter: Dr Jagtar Nijjar\, Post-CCT Lecturer
DTSTART:20190522T123000Z
DTEND:20190522T130000Z
UID:TALK122311@talks.cam.ac.uk
CONTACT:Vicky Clarke
DESCRIPTION:SpSpecialist Lead: Dr Ken Poole\n\nLead Consultant: Dr Ken Poo
 le\n\nPresenter: Dr Jagtar Nijjar\, Post-CCT Lecturer\n\nTitle: “One dis
 ease\, two diseases\, three diseases or more…”\n\nSpecialty: Rheumatol
 ogy\n\n\n
LOCATION:William Harvey Lecture Theatre
END:VEVENT
END:VCALENDAR
