BEGIN:VCALENDAR
VERSION:2.0
PRODID:-//Talks.cam//talks.cam.ac.uk//
X-WR-CALNAME:Talks.cam
BEGIN:VEVENT
SUMMARY: Title: Acquired Immunodeficiency Syndrome: An under-recognised ca
 use -  Presenter: Dr Dinakantha Kumararatne & Dr Rainer Doffinger
DTSTART:20190529T123000Z
DTEND:20190529T130000Z
UID:TALK122317@talks.cam.ac.uk
CONTACT:Vicky Clarke
DESCRIPTION:Specialist Lead: Dr Dinakantha Kumararatne\n\nLead Consultant:
  Dr Dinakantha Kumararatne \n\nPresenter: Dr Dinakantha Kumararatne & Dr R
 ainer Doffinger\n\nTitle: Acquired Immunodeficiency Syndrome: An under-rec
 ognised cause\n\nSpecialty: Immunology\n\n
LOCATION:William Harvey Lecture Theatre
END:VEVENT
END:VCALENDAR
