BEGIN:VCALENDAR
VERSION:2.0
PRODID:-//Talks.cam//talks.cam.ac.uk//
X-WR-CALNAME:Talks.cam
BEGIN:VEVENT
SUMMARY:Caught Between the Social Media machine and the Impact machine? - 
 Mark Carrigan\, Postdoctoral Research Associate\, Faculty of Education\, U
 niversity of Cambridge
DTSTART:20190516T164500Z
DTEND:20190516T180000Z
UID:TALK122959@talks.cam.ac.uk
CONTACT:Julian M. Siebert
DESCRIPTION:Mark Carrigan is a sociologist in the Faculty of Education at 
 the University of Cambridge. His research explores how the proliferation o
 f digital platforms is reshaping education systems\, with a particular foc
 us on knowledge production within universities. He is internationally reco
 gnised as a leading expert on the role of social media within higher educa
 tion\, giving over 100 invited talks internationally and consulting for un
 iversities\, research centres and publishers. He is associate editor of Ci
 vil Sociology and a member of the editorial boards of Applied Social Theor
 y\, Digital Culture & Education\, Discover Society\, Journal of Digital So
 cial Research and Social Research Practice. He is a trustee of the Social 
 Research Association\, a board member of the Centre for Critical Realism a
 nd a member of the Centre for Social Ontology.\n\nRefreshments from 17:30\
 , talk starts at 17:45.
LOCATION:Syndicate Room 2\, Wolfson College\, Cambridge\, UK\, CB3 9BB
END:VEVENT
END:VCALENDAR
