BEGIN:VCALENDAR
VERSION:2.0
PRODID:-//Talks.cam//talks.cam.ac.uk//
X-WR-CALNAME:Talks.cam
BEGIN:VEVENT
SUMMARY:Programmatic Access to Proteomics Resources - Various EBI Speakers
DTSTART:20080728T080000Z
DTEND:20080728T160000Z
UID:TALK12343@talks.cam.ac.uk
CONTACT:Janet Copeland
DESCRIPTION:This course consists of a mix of lectures and practical experi
 ence in accessing proteomics resources. An overview of each of the databas
 es will introduce participants to the types of data\, the way the data are
  stored and the connection between databases. Subsequently database-specif
 ic lectures will address the programmatic accessibility of the data and da
 ta integration between resources. This new knowledge will then be applied 
 in hands-on tutorials.
LOCATION:EMBL-EBI\, The Wellcome Trust Genome Campus\, Hinxton
END:VEVENT
END:VCALENDAR
