BEGIN:VCALENDAR
VERSION:2.0
PRODID:-//Talks.cam//talks.cam.ac.uk//
X-WR-CALNAME:Talks.cam
BEGIN:VEVENT
SUMMARY:Programmatic access in Perl: webservices & work flows - Speaker to
  be confirmed
DTSTART:20080908T080000Z
DTEND:20080908T160000Z
UID:TALK12347@talks.cam.ac.uk
CONTACT:Janet Copeland
DESCRIPTION:This course will give you the skills to leverage webservice te
 chnology to access and manipulate bioinformatics data resources and tools.
  You will start with simple scripts accessing individual services and then
  build upon this to create work flows to solve more complex problems in a 
 reusable manner.\n\nParticipants will be exposed to open standards such as
  Simple Object Access Protocol (SOAP)\; the Distributed Annotation System 
 (DAS)\; REST services and the BioMart web service. Several examples of spe
 cific web services will be included\, covering programmatic access to both
  databases and tools at the EBI.
LOCATION:EMBL-EBI\, The Wellcome Trust Genome Campus\, Hinxton
END:VEVENT
END:VCALENDAR
