BEGIN:VCALENDAR
VERSION:2.0
PRODID:-//Talks.cam//talks.cam.ac.uk//
X-WR-CALNAME:Talks.cam
BEGIN:VEVENT
SUMMARY:On the approximation of quadratic forms and sparse matrix products
  - Wolfe\, PJ (Harvard)
DTSTART:20080603T100000Z
DTEND:20080603T110000Z
UID:TALK12389@talks.cam.ac.uk
CONTACT:Mustapha Amrani
DESCRIPTION:
LOCATION:Seminar Room 1\, Newton Institute
END:VEVENT
END:VCALENDAR
