BEGIN:VCALENDAR
VERSION:2.0
PRODID:-//Talks.cam//talks.cam.ac.uk//
X-WR-CALNAME:Talks.cam
BEGIN:VEVENT
SUMMARY:Dictionaries and Linguistic Nationalism - Sheila Watts (Department
  of German and Dutch)
DTSTART:20190508T160000Z
DTEND:20190508T173000Z
UID:TALK124951@talks.cam.ac.uk
CONTACT:Abhimanyu Sharma
DESCRIPTION:The first talk of Cambridge Sociolinguistics Circle (CSLC) wil
 l be by Dr Sheila Watts. Using examples of two of the most prominent Germa
 n language dictionaries (Deutsches Wörterbuch by Brothers Grimm and Recht
 schreibung by Konrad Duden)\, Dr Watts will discuss whether dictionaries s
 hould be seen as neutral lexical repositories or whether they are ideologi
 cally underpinned.
LOCATION:Sidgwick Site\, Faculty of English\, GR04
END:VEVENT
END:VCALENDAR
