BEGIN:VCALENDAR
VERSION:2.0
PRODID:-//Talks.cam//talks.cam.ac.uk//
X-WR-CALNAME:Talks.cam
BEGIN:VEVENT
SUMMARY:Title: ‘Opting out’ - Presenter: Dr Nick Torpey
DTSTART:20190717T123000Z
DTEND:20190717T130000Z
UID:TALK125524@talks.cam.ac.uk
CONTACT:Vicky Clarke
DESCRIPTION:Specialist Lead: Dr Menna Clatworthy\n\nLead Consultant: Dr Ni
 ck Torpey\n\nPresenter: Dr Nick Torpey\n\nTitle: ‘Opting out’\n\nSpeci
 alty: Transplant\n\n
LOCATION:William Harvey Lecture Theatre
END:VEVENT
END:VCALENDAR
